BEGIN:VCALENDAR
VERSION:2.0
PRODID:-//kyohatsu//JP
CALSCALE:GREGORIAN
BEGIN:VEVENT
DTSTART;VALUE=DATE:20260710
SUMMARY:祖父母をたずねて家出兄弟二人旅4〜お祭りでの奮闘、たのしいひと夏の思い出〜
DESCRIPTION:泉きよらか TOブックス
UID:9784868540533@kyohatsu.lb-product.com
END:VEVENT
END:VCALENDAR
