BEGIN:VCALENDAR
VERSION:2.0
PRODID:-//kyohatsu//JP
CALSCALE:GREGORIAN
BEGIN:VEVENT
DTSTART;VALUE=DATE:20260514
SUMMARY:大活字本シリーズ　日本の怪談傑作選　3　泉鏡花　高野聖
DESCRIPTION:泉 鏡花 三和書籍
UID:9784862516329@kyohatsu.lb-product.com
END:VEVENT
END:VCALENDAR
