BEGIN:VCALENDAR
VERSION:2.0
PRODID:-//kyohatsu//JP
CALSCALE:GREGORIAN
BEGIN:VEVENT
DTSTART;VALUE=DATE:20260701
SUMMARY:いとまのすいけい
DESCRIPTION:沼 MY BEST RECORDS
UID:4988044138025@kyohatsu.lb-product.com
END:VEVENT
END:VCALENDAR
