BEGIN:VCALENDAR
VERSION:2.0
PRODID:-//kyohatsu//JP
CALSCALE:GREGORIAN
BEGIN:VEVENT
DTSTART;VALUE=DATE:20260605
SUMMARY:隣の畑は青々と
DESCRIPTION:河崎 秋子 U-NEXT
UID:9784868437017@kyohatsu.lb-product.com
END:VEVENT
END:VCALENDAR
