BEGIN:VCALENDAR
VERSION:2.0
PRODID:-//kyohatsu//JP
CALSCALE:GREGORIAN
BEGIN:VEVENT
DTSTART;VALUE=DATE:20260603
SUMMARY:強い男
DESCRIPTION:河合ユウマ 花と龍
UID:4589516040374@kyohatsu.lb-product.com
END:VEVENT
END:VCALENDAR
