BEGIN:VCALENDAR
VERSION:2.0
PRODID:-//kyohatsu//JP
CALSCALE:GREGORIAN
BEGIN:VEVENT
DTSTART;VALUE=DATE:20260528
SUMMARY:米原万里　新装版
DESCRIPTION:河出書房新社編集部 河出書房新社
UID:9784309980997@kyohatsu.lb-product.com
END:VEVENT
END:VCALENDAR
