BEGIN:VCALENDAR
VERSION:2.0
PRODID:-//kyohatsu//JP
CALSCALE:GREGORIAN
BEGIN:VEVENT
DTSTART;VALUE=DATE:20260629
SUMMARY:我慢するなメシと旅
DESCRIPTION:沢野　ひとし KADOKAWA
UID:9784048119078@kyohatsu.lb-product.com
END:VEVENT
END:VCALENDAR
