BEGIN:VCALENDAR
VERSION:2.0
PRODID:-//kyohatsu//JP
CALSCALE:GREGORIAN
BEGIN:VEVENT
DTSTART;VALUE=DATE:20260610
SUMMARY:佳艶
DESCRIPTION:沢地優佳 (株)ラインコミュニケーションズ
UID:4529971414297@kyohatsu.lb-product.com
END:VEVENT
END:VCALENDAR
