BEGIN:VCALENDAR
VERSION:2.0
PRODID:-//kyohatsu//JP
CALSCALE:GREGORIAN
BEGIN:VEVENT
DTSTART;VALUE=DATE:20260525
SUMMARY:丘の上の洋食屋オリオン 雨上がりのごちそう（3）
DESCRIPTION:沖田　円 KADOKAWA
UID:9784041172445@kyohatsu.lb-product.com
END:VEVENT
END:VCALENDAR
