BEGIN:VCALENDAR
VERSION:2.0
PRODID:-//kyohatsu//JP
CALSCALE:GREGORIAN
BEGIN:VEVENT
DTSTART;VALUE=DATE:20260529
SUMMARY:不浄を拭うひと（9）
DESCRIPTION:沖田×華 ぶんか社
UID:9784821111848@kyohatsu.lb-product.com
END:VEVENT
END:VCALENDAR
