BEGIN:VCALENDAR
VERSION:2.0
PRODID:-//kyohatsu//JP
CALSCALE:GREGORIAN
BEGIN:VEVENT
DTSTART;VALUE=DATE:20260618
SUMMARY:パンクガン 5
DESCRIPTION:沖 尚樹 集英社
UID:9784088942346@kyohatsu.lb-product.com
END:VEVENT
END:VCALENDAR
