BEGIN:VCALENDAR
VERSION:2.0
PRODID:-//kyohatsu//JP
CALSCALE:GREGORIAN
BEGIN:VEVENT
DTSTART;VALUE=DATE:20260501
SUMMARY:台湾、お菓子の旅
DESCRIPTION:池澤 春菜 主婦と生活社
UID:9784391165555@kyohatsu.lb-product.com
END:VEVENT
END:VCALENDAR
