BEGIN:VCALENDAR
VERSION:2.0
PRODID:-//kyohatsu//JP
CALSCALE:GREGORIAN
BEGIN:VEVENT
DTSTART;VALUE=DATE:20260520
SUMMARY:池上彰のマネーはどうなる？
DESCRIPTION:池上 彰 文藝春秋
UID:9784166615315@kyohatsu.lb-product.com
END:VEVENT
BEGIN:VEVENT
DTSTART;VALUE=DATE:20260526
SUMMARY:そうだったのか! 中東
DESCRIPTION:池上 彰 ホーム社
UID:9784834254150@kyohatsu.lb-product.com
END:VEVENT
BEGIN:VEVENT
DTSTART;VALUE=DATE:20260610
SUMMARY:知らないと恥をかく世界の大問題17 米・中・露、三極構造の時代
DESCRIPTION:池上　彰 KADOKAWA
UID:9784040825779@kyohatsu.lb-product.com
END:VEVENT
END:VCALENDAR
