BEGIN:VCALENDAR
VERSION:2.0
PRODID:-//kyohatsu//JP
CALSCALE:GREGORIAN
BEGIN:VEVENT
DTSTART;VALUE=DATE:20260701
SUMMARY:望み通り、捨てられましょう（1）
DESCRIPTION:江東しろ TOブックス
UID:9784868540502@kyohatsu.lb-product.com
END:VEVENT
END:VCALENDAR
