BEGIN:VCALENDAR
VERSION:2.0
PRODID:-//kyohatsu//JP
CALSCALE:GREGORIAN
BEGIN:VEVENT
DTSTART;VALUE=DATE:20260507
SUMMARY:川のある街
DESCRIPTION:江國香織 朝日新聞出版
UID:9784022652409@kyohatsu.lb-product.com
END:VEVENT
END:VCALENDAR
