BEGIN:VCALENDAR
VERSION:2.0
PRODID:-//kyohatsu//JP
CALSCALE:GREGORIAN
BEGIN:VEVENT
DTSTART;VALUE=DATE:20260526
SUMMARY:偏屈者で行こう！
DESCRIPTION:永田健 西日本新聞社
UID:9784816710292@kyohatsu.lb-product.com
END:VEVENT
END:VCALENDAR
