BEGIN:VCALENDAR
VERSION:2.0
PRODID:-//kyohatsu//JP
CALSCALE:GREGORIAN
BEGIN:VEVENT
DTSTART;VALUE=DATE:20260529
SUMMARY:まどいのいきもの -銀河生物観察記ー（1）
DESCRIPTION:永田 礼路 小学館
UID:9784098638246@kyohatsu.lb-product.com
END:VEVENT
END:VCALENDAR
