BEGIN:VCALENDAR
VERSION:2.0
PRODID:-//kyohatsu//JP
CALSCALE:GREGORIAN
BEGIN:VEVENT
DTSTART;VALUE=DATE:20260511
SUMMARY:再読だけが創造的な読書術である
DESCRIPTION:永田 希 筑摩書房
UID:9784480440921@kyohatsu.lb-product.com
END:VEVENT
END:VCALENDAR
