BEGIN:VCALENDAR
VERSION:2.0
PRODID:-//kyohatsu//JP
CALSCALE:GREGORIAN
BEGIN:VEVENT
DTSTART;VALUE=DATE:20260430
SUMMARY:タネリとオホーツクの風　-宮沢賢治『サガレンと八月』の続編ー
DESCRIPTION:永井　明彦 銀の鈴社
UID:9784866182001@kyohatsu.lb-product.com
END:VEVENT
END:VCALENDAR
