BEGIN:VCALENDAR
VERSION:2.0
PRODID:-//kyohatsu//JP
CALSCALE:GREGORIAN
BEGIN:VEVENT
DTSTART;VALUE=DATE:20260519
SUMMARY:地獄の花 他一篇
DESCRIPTION:永井 荷風 岩波書店
UID:9784003600658@kyohatsu.lb-product.com
END:VEVENT
END:VCALENDAR
