BEGIN:VCALENDAR
VERSION:2.0
PRODID:-//kyohatsu//JP
CALSCALE:GREGORIAN
BEGIN:VEVENT
DTSTART;VALUE=DATE:20260501
SUMMARY:死神騎士様との間に双子を授かりました
DESCRIPTION:氷雨そら TOブックス
UID:9784867949924@kyohatsu.lb-product.com
END:VEVENT
END:VCALENDAR
