BEGIN:VCALENDAR
VERSION:2.0
PRODID:-//kyohatsu//JP
CALSCALE:GREGORIAN
BEGIN:VEVENT
DTSTART;VALUE=DATE:20260508
SUMMARY:真夜中に彼女たちは 社労士のヒナコ
DESCRIPTION:水生 大海 文藝春秋
UID:9784167925116@kyohatsu.lb-product.com
END:VEVENT
END:VCALENDAR
