BEGIN:VCALENDAR
VERSION:2.0
PRODID:-//kyohatsu//JP
CALSCALE:GREGORIAN
BEGIN:VEVENT
DTSTART;VALUE=DATE:20260525
SUMMARY:最期の願いに月が泣く　（2）
DESCRIPTION:水無月　すう KADOKAWA
UID:9784041174395@kyohatsu.lb-product.com
END:VEVENT
END:VCALENDAR
