BEGIN:VCALENDAR
VERSION:2.0
PRODID:-//kyohatsu//JP
CALSCALE:GREGORIAN
BEGIN:VEVENT
DTSTART;VALUE=DATE:20260513
SUMMARY:蜃気楼と恋人たち
DESCRIPTION:水庭 れん 講談社
UID:9784065429846@kyohatsu.lb-product.com
END:VEVENT
END:VCALENDAR
