BEGIN:VCALENDAR
VERSION:2.0
PRODID:-//kyohatsu//JP
CALSCALE:GREGORIAN
BEGIN:VEVENT
DTSTART;VALUE=DATE:20260718
SUMMARY:ささやかれた夢の話 -Vinyl Edition-【完全生産限定アナログ盤】
DESCRIPTION:比屋定篤子 (株)ソニー・ミュージックダイレクト
UID:4547366798449@kyohatsu.lb-product.com
END:VEVENT
END:VCALENDAR
