BEGIN:VCALENDAR
VERSION:2.0
PRODID:-//kyohatsu//JP
CALSCALE:GREGORIAN
BEGIN:VEVENT
DTSTART;VALUE=DATE:20260612
SUMMARY:カジムヌガタイ
DESCRIPTION:比嘉 慂 筑摩書房
UID:9784480441027@kyohatsu.lb-product.com
END:VEVENT
END:VCALENDAR
