BEGIN:VCALENDAR
VERSION:2.0
PRODID:-//kyohatsu//JP
CALSCALE:GREGORIAN
BEGIN:VEVENT
DTSTART;VALUE=DATE:20260520
SUMMARY:花咲けじいさん　人生後半の教科書
DESCRIPTION:武田鉄矢 双葉社
UID:9784575320695@kyohatsu.lb-product.com
END:VEVENT
END:VCALENDAR
