BEGIN:VCALENDAR
VERSION:2.0
PRODID:-//kyohatsu//JP
CALSCALE:GREGORIAN
BEGIN:VEVENT
DTSTART;VALUE=DATE:20260527
SUMMARY:ここはこどものいない国
DESCRIPTION:武田 綾乃 講談社
UID:9784065432686@kyohatsu.lb-product.com
END:VEVENT
END:VCALENDAR
