BEGIN:VCALENDAR
VERSION:2.0
PRODID:-//kyohatsu//JP
CALSCALE:GREGORIAN
BEGIN:VEVENT
DTSTART;VALUE=DATE:20260521
SUMMARY:父ではありませんが 第三者として考える
DESCRIPTION:武田 砂鉄 集英社
UID:9784087448962@kyohatsu.lb-product.com
END:VEVENT
END:VCALENDAR
