BEGIN:VCALENDAR
VERSION:2.0
PRODID:-//kyohatsu//JP
CALSCALE:GREGORIAN
BEGIN:VEVENT
DTSTART;VALUE=DATE:20260612
SUMMARY:三日月の武者　山中鹿介伝　尼子家の危難
DESCRIPTION:武内 涼 講談社
UID:9784065436820@kyohatsu.lb-product.com
END:VEVENT
END:VCALENDAR
