BEGIN:VCALENDAR
VERSION:2.0
PRODID:-//kyohatsu//JP
CALSCALE:GREGORIAN
BEGIN:VEVENT
DTSTART;VALUE=DATE:20260528
SUMMARY:きみが明日、この世界から消える前に3（仮）
DESCRIPTION:此見えこ スターツ出版
UID:9784813719182@kyohatsu.lb-product.com
END:VEVENT
END:VCALENDAR
