BEGIN:VCALENDAR
VERSION:2.0
PRODID:-//kyohatsu//JP
CALSCALE:GREGORIAN
BEGIN:VEVENT
DTSTART;VALUE=DATE:20260629
SUMMARY:拷問バイトくんの日常 8
DESCRIPTION:次見 やをら 白泉社
UID:9784592166900@kyohatsu.lb-product.com
END:VEVENT
END:VCALENDAR
