BEGIN:VCALENDAR
VERSION:2.0
PRODID:-//kyohatsu//JP
CALSCALE:GREGORIAN
BEGIN:VEVENT
DTSTART;VALUE=DATE:20260605
SUMMARY:これより「断罪」の授業を始めます 1
DESCRIPTION:櫻　サキ KADOKAWA
UID:9784048119269@kyohatsu.lb-product.com
END:VEVENT
END:VCALENDAR
