BEGIN:VCALENDAR
VERSION:2.0
PRODID:-//kyohatsu//JP
CALSCALE:GREGORIAN
BEGIN:VEVENT
DTSTART;VALUE=DATE:20260926
SUMMARY:【グッズ】『機動戦士ガンダム 鉄血のオルフェンズ』　10周年記念 公式記念設定資料集・画集 -The World of IRON-BLOODED ORPHANS-
DESCRIPTION:機動戦士ガンダム 鉄血のオルフェンズ 
UID:4934569029218@kyohatsu.lb-product.com
END:VEVENT
END:VCALENDAR
