BEGIN:VCALENDAR
VERSION:2.0
PRODID:-//kyohatsu//JP
CALSCALE:GREGORIAN
BEGIN:VEVENT
DTSTART;VALUE=DATE:20260721
SUMMARY:【グッズ】【新版】機動戦士ガンダム 逆襲のシャア　パンフレット キービジュアル A4メタルポスター2枚セット
DESCRIPTION:機動戦士ガンダム 
UID:4934569051943@kyohatsu.lb-product.com
END:VEVENT
BEGIN:VEVENT
DTSTART;VALUE=DATE:20260721
SUMMARY:【グッズ】機動戦士ガンダム 閃光のハサウェイ キルケーの魔女　オフィシャルクリエイティブレポート
DESCRIPTION:機動戦士ガンダム 
UID:4934569051950@kyohatsu.lb-product.com
END:VEVENT
END:VCALENDAR
