BEGIN:VCALENDAR
VERSION:2.0
PRODID:-//kyohatsu//JP
CALSCALE:GREGORIAN
BEGIN:VEVENT
DTSTART;VALUE=DATE:20260701
SUMMARY:GOLDEN☆BEST 橘いずみ+榊いずみ〜20th ANNIVERSARY〜
DESCRIPTION:橘いずみ (株)ソニー・ミュージックダイレクト
UID:4547366820164@kyohatsu.lb-product.com
END:VEVENT
END:VCALENDAR
