BEGIN:VCALENDAR
VERSION:2.0
PRODID:-//kyohatsu//JP
CALSCALE:GREGORIAN
BEGIN:VEVENT
DTSTART;VALUE=DATE:20260522
SUMMARY:輝ける星の下に
DESCRIPTION:橋本 治 河出書房新社
UID:9784309032696@kyohatsu.lb-product.com
END:VEVENT
END:VCALENDAR
