BEGIN:VCALENDAR
VERSION:2.0
PRODID:-//kyohatsu//JP
CALSCALE:GREGORIAN
BEGIN:VEVENT
DTSTART;VALUE=DATE:20260605
SUMMARY:八雲立つ 灼 12
DESCRIPTION:樹 なつみ 白泉社
UID:9784592222873@kyohatsu.lb-product.com
END:VEVENT
END:VCALENDAR
