BEGIN:VCALENDAR
VERSION:2.0
PRODID:-//kyohatsu//JP
CALSCALE:GREGORIAN
BEGIN:VEVENT
DTSTART;VALUE=DATE:20260525
SUMMARY:星のかわりに愛してやるよ
DESCRIPTION:横澤しっか 徳間書店
UID:9784199610837@kyohatsu.lb-product.com
END:VEVENT
END:VCALENDAR
