BEGIN:VCALENDAR
VERSION:2.0
PRODID:-//kyohatsu//JP
CALSCALE:GREGORIAN
BEGIN:VEVENT
DTSTART;VALUE=DATE:20260626
SUMMARY:眉山の風よ！阿波の踊りに吹け！
DESCRIPTION:横澤　丈二 KADOKAWA
UID:9784046080219@kyohatsu.lb-product.com
END:VEVENT
END:VCALENDAR
