BEGIN:VCALENDAR
VERSION:2.0
PRODID:-//kyohatsu//JP
CALSCALE:GREGORIAN
BEGIN:VEVENT
DTSTART;VALUE=DATE:20260528
SUMMARY:なぜ本を読むのか、なぜ映画を見るのか、なぜ音楽を聴くのか --100年後、カルチャーの参考資料になる本
DESCRIPTION:樋口毅宏 POST
UID:9784911632024@kyohatsu.lb-product.com
END:VEVENT
END:VCALENDAR
