BEGIN:VCALENDAR
VERSION:2.0
PRODID:-//kyohatsu//JP
CALSCALE:GREGORIAN
BEGIN:VEVENT
DTSTART;VALUE=DATE:20260715
SUMMARY:にじさんじ WORLD TOUR 2025 Singin’ in the Rainbow！神戸公演(通常盤)【Blu-ray】
DESCRIPTION:樋口楓、竜胆尊、レヴィ・エリファ、シェリン・バーガンディ、甲斐田晴、伊波ライ ANYCOLOR(株)
UID:4573600263558@kyohatsu.lb-product.com
END:VEVENT
END:VCALENDAR
