BEGIN:VCALENDAR
VERSION:2.0
PRODID:-//kyohatsu//JP
CALSCALE:GREGORIAN
BEGIN:VEVENT
DTSTART;VALUE=DATE:20260609
SUMMARY:江戸前エルフ（13）
DESCRIPTION:樋口 彰彦 講談社
UID:9784065431290@kyohatsu.lb-product.com
END:VEVENT
END:VCALENDAR
