BEGIN:VCALENDAR
VERSION:2.0
PRODID:-//kyohatsu//JP
CALSCALE:GREGORIAN
BEGIN:VEVENT
DTSTART;VALUE=DATE:20260605
SUMMARY:エアー3．0
DESCRIPTION:榎本 憲男 小学館
UID:9784094075755@kyohatsu.lb-product.com
END:VEVENT
END:VCALENDAR
