BEGIN:VCALENDAR
VERSION:2.0
PRODID:-//kyohatsu//JP
CALSCALE:GREGORIAN
BEGIN:VEVENT
DTSTART;VALUE=DATE:20260515
SUMMARY:最強執事の恩返し〜転生先の異世界で魔王を倒し、さらに魔界で大魔王を倒して100年ぶりに異世界に戻ってきたら世話になっていた侯爵家が没落していました。お世話になった家なので復興させたいと思います〜（1）
DESCRIPTION:榊与一 TOブックス
UID:9784868540038@kyohatsu.lb-product.com
END:VEVENT
END:VCALENDAR
