BEGIN:VCALENDAR
VERSION:2.0
PRODID:-//kyohatsu//JP
CALSCALE:GREGORIAN
BEGIN:VEVENT
DTSTART;VALUE=DATE:20260525
SUMMARY:させば成る
DESCRIPTION:楢崎壮太 徳間書店
UID:9784199610813@kyohatsu.lb-product.com
END:VEVENT
END:VCALENDAR
