BEGIN:VCALENDAR
VERSION:2.0
PRODID:-//kyohatsu//JP
CALSCALE:GREGORIAN
BEGIN:VEVENT
DTSTART;VALUE=DATE:20260529
SUMMARY:きみは最愛のステラ（下）
DESCRIPTION:楢島さち 竹書房
UID:9784801989771@kyohatsu.lb-product.com
END:VEVENT
BEGIN:VEVENT
DTSTART;VALUE=DATE:20260529
SUMMARY:きみは最愛のステラ（上）
DESCRIPTION:楢島さち 竹書房
UID:9784801989764@kyohatsu.lb-product.com
END:VEVENT
END:VCALENDAR
