BEGIN:VCALENDAR
VERSION:2.0
PRODID:-//kyohatsu//JP
CALSCALE:GREGORIAN
BEGIN:VEVENT
DTSTART;VALUE=DATE:20260522
SUMMARY:泣けない私のサンドイッチ
DESCRIPTION:森田三和 ループ舎
UID:9784991413513@kyohatsu.lb-product.com
END:VEVENT
END:VCALENDAR
