BEGIN:VCALENDAR
VERSION:2.0
PRODID:-//kyohatsu//JP
CALSCALE:GREGORIAN
BEGIN:VEVENT
DTSTART;VALUE=DATE:20260509
SUMMARY:刺客長屋 ＜新装版＞
DESCRIPTION:森村誠一 祥伝社
UID:9784396351885@kyohatsu.lb-product.com
END:VEVENT
END:VCALENDAR
