BEGIN:VCALENDAR
VERSION:2.0
PRODID:-//kyohatsu//JP
CALSCALE:GREGORIAN
BEGIN:VEVENT
DTSTART;VALUE=DATE:20260618
SUMMARY:カテナチオ 9
DESCRIPTION:森本 大輔 集英社
UID:9784088942544@kyohatsu.lb-product.com
END:VEVENT
END:VCALENDAR
